BEGIN:VCALENDAR
VERSION:2.0
PRODID:-//Cavac Services - ECPv6.15.20//NONSGML v1.0//EN
CALSCALE:GREGORIAN
METHOD:PUBLISH
X-WR-CALNAME:Cavac Services
X-ORIGINAL-URL:https://www.cavacservices.fr
X-WR-CALDESC:Évènements pour Cavac Services
REFRESH-INTERVAL;VALUE=DURATION:PT1H
X-Robots-Tag:noindex
X-PUBLISHED-TTL:PT1H
BEGIN:VTIMEZONE
TZID:Europe/Paris
BEGIN:DAYLIGHT
TZOFFSETFROM:+0100
TZOFFSETTO:+0200
TZNAME:CEST
DTSTART:20210328T010000
END:DAYLIGHT
BEGIN:STANDARD
TZOFFSETFROM:+0200
TZOFFSETTO:+0100
TZNAME:CET
DTSTART:20211031T010000
END:STANDARD
BEGIN:DAYLIGHT
TZOFFSETFROM:+0100
TZOFFSETTO:+0200
TZNAME:CEST
DTSTART:20220327T010000
END:DAYLIGHT
BEGIN:STANDARD
TZOFFSETFROM:+0200
TZOFFSETTO:+0100
TZNAME:CET
DTSTART:20221030T010000
END:STANDARD
BEGIN:DAYLIGHT
TZOFFSETFROM:+0100
TZOFFSETTO:+0200
TZNAME:CEST
DTSTART:20230326T010000
END:DAYLIGHT
BEGIN:STANDARD
TZOFFSETFROM:+0200
TZOFFSETTO:+0100
TZNAME:CET
DTSTART:20231029T010000
END:STANDARD
END:VTIMEZONE
BEGIN:VEVENT
DTSTART;TZID=Europe/Paris:20221129T080000
DTEND;TZID=Europe/Paris:20221129T170000
DTSTAMP:20260423T113312
CREATED:20221019T103647Z
LAST-MODIFIED:20230131T141949Z
UID:2607-1669708800-1669741200@www.cavacservices.fr
SUMMARY:Formation Agriculture Biologique de Conservation N4 G1
DESCRIPTION:
URL:https://www.cavacservices.fr/evenement/formation-agriculture-biologique-de-conservation-n4g1/
LOCATION:Siège CAVAC\, 12 Boulevard Réaumur\, La Roche sur Yon\, 85000\, France
CATEGORIES:Formation Agriculture Biologique de Conservation
END:VEVENT
BEGIN:VEVENT
DTSTART;TZID=Europe/Paris:20221130T080000
DTEND;TZID=Europe/Paris:20221130T170000
DTSTAMP:20260423T113312
CREATED:20221019T103702Z
LAST-MODIFIED:20230131T141943Z
UID:2609-1669795200-1669827600@www.cavacservices.fr
SUMMARY:Formation Agriculture Biologique de Conservation N4 G2
DESCRIPTION:
URL:https://www.cavacservices.fr/evenement/formation-agriculture-biologique-de-conservation-n4g2/
LOCATION:Siège CAVAC\, 12 Boulevard Réaumur\, La Roche sur Yon\, 85000\, France
CATEGORIES:Formation Agriculture Biologique de Conservation
END:VEVENT
END:VCALENDAR