BEGIN:VCALENDAR
VERSION:2.0
PRODID:-//Cavac Services - ECPv6.15.20//NONSGML v1.0//EN
CALSCALE:GREGORIAN
METHOD:PUBLISH
X-WR-CALNAME:Cavac Services
X-ORIGINAL-URL:https://www.cavacservices.fr
X-WR-CALDESC:Évènements pour Cavac Services
REFRESH-INTERVAL;VALUE=DURATION:PT1H
X-Robots-Tag:noindex
X-PUBLISHED-TTL:PT1H
BEGIN:VTIMEZONE
TZID:Europe/Paris
BEGIN:DAYLIGHT
TZOFFSETFROM:+0100
TZOFFSETTO:+0200
TZNAME:CEST
DTSTART:20220327T010000
END:DAYLIGHT
BEGIN:STANDARD
TZOFFSETFROM:+0200
TZOFFSETTO:+0100
TZNAME:CET
DTSTART:20221030T010000
END:STANDARD
BEGIN:DAYLIGHT
TZOFFSETFROM:+0100
TZOFFSETTO:+0200
TZNAME:CEST
DTSTART:20230326T010000
END:DAYLIGHT
BEGIN:STANDARD
TZOFFSETFROM:+0200
TZOFFSETTO:+0100
TZNAME:CET
DTSTART:20231029T010000
END:STANDARD
BEGIN:DAYLIGHT
TZOFFSETFROM:+0100
TZOFFSETTO:+0200
TZNAME:CEST
DTSTART:20240331T010000
END:DAYLIGHT
BEGIN:STANDARD
TZOFFSETFROM:+0200
TZOFFSETTO:+0100
TZNAME:CET
DTSTART:20241027T010000
END:STANDARD
END:VTIMEZONE
BEGIN:VEVENT
DTSTART;TZID=Europe/Paris:20230215T083000
DTEND;TZID=Europe/Paris:20230216T173000
DTSTAMP:20260423T073631
CREATED:20230131T132936Z
LAST-MODIFIED:20230131T141935Z
UID:2933-1676449800-1676568600@www.cavacservices.fr
SUMMARY:Formation Agriculture Biologique de Conservation N2 - F ABC N2 G3
DESCRIPTION:COMPLET \n2 jours de formation
URL:https://www.cavacservices.fr/evenement/formation-agriculture-biologique-de-conservation-n2-f-abc-n2g3/
LOCATION:VSN – La Crèche\, Rue Vasco de Gama\, La Crèche\, 79260\, France
CATEGORIES:Formation Agriculture Biologique de Conservation
END:VEVENT
BEGIN:VEVENT
DTSTART;TZID=Europe/Paris:20230220T083000
DTEND;TZID=Europe/Paris:20230221T173000
DTSTAMP:20260423T073631
CREATED:20230131T134131Z
LAST-MODIFIED:20230131T141929Z
UID:2936-1676881800-1677000600@www.cavacservices.fr
SUMMARY:Formation Agriculture Biologique de Conservation N3 - F ABC N3 G3
DESCRIPTION:COMPLET \n2 jours de formation
URL:https://www.cavacservices.fr/evenement/formation-agriculture-biologique-de-conservation-n3-f-abc-n3g3/
LOCATION:VSN – La Crèche\, Rue Vasco de Gama\, La Crèche\, 79260\, France
CATEGORIES:Formation Agriculture Biologique de Conservation
END:VEVENT
BEGIN:VEVENT
DTSTART;TZID=Europe/Paris:20230228T083000
DTEND;TZID=Europe/Paris:20230228T173000
DTSTAMP:20260423T073631
CREATED:20230131T134221Z
LAST-MODIFIED:20230206T084551Z
UID:2938-1677573000-1677605400@www.cavacservices.fr
SUMMARY:Formation Agriculture Biologique de Conservation N6 - F ABC N6 G1
DESCRIPTION:COMPLET
URL:https://www.cavacservices.fr/evenement/formation-agriculture-biologique-de-conservation-n6-f-abc-n6g1/
LOCATION:Fontenay Coop\, 20 Rue Louis Capelle\, Fontenay le Comte\, 85200\, France
CATEGORIES:Formation Agriculture Biologique de Conservation
END:VEVENT
END:VCALENDAR