BEGIN:VCALENDAR
VERSION:2.0
PRODID:-//Cavac Services - ECPv6.15.20//NONSGML v1.0//EN
CALSCALE:GREGORIAN
METHOD:PUBLISH
X-ORIGINAL-URL:https://www.cavacservices.fr
X-WR-CALDESC:Évènements pour Cavac Services
REFRESH-INTERVAL;VALUE=DURATION:PT1H
X-Robots-Tag:noindex
X-PUBLISHED-TTL:PT1H
BEGIN:VTIMEZONE
TZID:Europe/Paris
BEGIN:DAYLIGHT
TZOFFSETFROM:+0100
TZOFFSETTO:+0200
TZNAME:CEST
DTSTART:20220327T010000
END:DAYLIGHT
BEGIN:STANDARD
TZOFFSETFROM:+0200
TZOFFSETTO:+0100
TZNAME:CET
DTSTART:20221030T010000
END:STANDARD
BEGIN:DAYLIGHT
TZOFFSETFROM:+0100
TZOFFSETTO:+0200
TZNAME:CEST
DTSTART:20230326T010000
END:DAYLIGHT
BEGIN:STANDARD
TZOFFSETFROM:+0200
TZOFFSETTO:+0100
TZNAME:CET
DTSTART:20231029T010000
END:STANDARD
BEGIN:DAYLIGHT
TZOFFSETFROM:+0100
TZOFFSETTO:+0200
TZNAME:CEST
DTSTART:20240331T010000
END:DAYLIGHT
BEGIN:STANDARD
TZOFFSETFROM:+0200
TZOFFSETTO:+0100
TZNAME:CET
DTSTART:20241027T010000
END:STANDARD
END:VTIMEZONE
BEGIN:VEVENT
DTSTART;TZID=Europe/Paris:20230301T083000
DTEND;TZID=Europe/Paris:20230301T173000
DTSTAMP:20260423T062035
CREATED:20230131T134341Z
LAST-MODIFIED:20230206T084623Z
UID:2941-1677659400-1677691800@www.cavacservices.fr
SUMMARY:Formation Agriculture Biologique de Conservation N6 - F ABC N6 G2
DESCRIPTION:COMPLET
URL:https://www.cavacservices.fr/evenement/formation-agriculture-biologique-de-conservation-n6-f-abc-n6g2/
LOCATION:Fontenay Coop\, 20 Rue Louis Capelle\, Fontenay le Comte\, 85200\, France
CATEGORIES:Formation Agriculture Biologique de Conservation
END:VEVENT
BEGIN:VEVENT
DTSTART;TZID=Europe/Paris:20230302T083000
DTEND;TZID=Europe/Paris:20230302T173000
DTSTAMP:20260423T062035
CREATED:20230131T134735Z
LAST-MODIFIED:20230131T141844Z
UID:2943-1677745800-1677778200@www.cavacservices.fr
SUMMARY:Formation Agriculture Biologique de Conservation N1 - F ABC N1 G4
DESCRIPTION:COMPLET \n 
URL:https://www.cavacservices.fr/evenement/formation-agriculture-biologique-de-conservation-n1-f-abc-n1g4/
LOCATION:Coopcorico\, 11 Route de Sainte Gemme\, Luçon\, 85400\, France
CATEGORIES:Formation Agriculture Biologique de Conservation
END:VEVENT
BEGIN:VEVENT
DTSTART;TZID=Europe/Paris:20230308T083000
DTEND;TZID=Europe/Paris:20230308T173000
DTSTAMP:20260423T062035
CREATED:20230131T135217Z
LAST-MODIFIED:20230131T141836Z
UID:2947-1678264200-1678296600@www.cavacservices.fr
SUMMARY:Formation Agriculture Biologique de Conservation N4 - F ABC N4 G3
DESCRIPTION:COMPLET
URL:https://www.cavacservices.fr/evenement/formation-agriculture-biologique-de-conservation-n4-f-abc-n4g3/
LOCATION:VSN – La Crèche\, Rue Vasco de Gama\, La Crèche\, 79260\, France
CATEGORIES:Formation Agriculture Biologique de Conservation
END:VEVENT
BEGIN:VEVENT
DTSTART;TZID=Europe/Paris:20230313T083000
DTEND;TZID=Europe/Paris:20230313T173000
DTSTAMP:20260423T062035
CREATED:20230131T135910Z
LAST-MODIFIED:20230131T141825Z
UID:2949-1678696200-1678728600@www.cavacservices.fr
SUMMARY:Formation Agriculture Biologique de Conservation N2 - F ABC N2 G4
DESCRIPTION:COMPLET
URL:https://www.cavacservices.fr/evenement/formation-agriculture-biologique-de-conservation-n2-f-abc-n2g4/
LOCATION:Coopcorico\, 11 Route de Sainte Gemme\, Luçon\, 85400\, France
CATEGORIES:Formation Agriculture Biologique de Conservation
END:VEVENT
BEGIN:VEVENT
DTSTART;TZID=Europe/Paris:20230314T083000
DTEND;TZID=Europe/Paris:20230314T173000
DTSTAMP:20260423T062035
CREATED:20230131T135950Z
LAST-MODIFIED:20230206T084417Z
UID:2951-1678782600-1678815000@www.cavacservices.fr
SUMMARY:Formation Agriculture Biologique de Conservation N2 - F ABC N2 G4
DESCRIPTION:COMPLET
URL:https://www.cavacservices.fr/evenement/formation-agriculture-biologique-de-conservation-n2-f-abc-n2g4-2/
LOCATION:Fontenay Coop\, 20 Rue Louis Capelle\, Fontenay le Comte\, 85200\, France
CATEGORIES:Formation Agriculture Biologique de Conservation
END:VEVENT
END:VCALENDAR