BEGIN:VCALENDAR
VERSION:2.0
PRODID:-//Cavac Services - ECPv6.15.20//NONSGML v1.0//EN
CALSCALE:GREGORIAN
METHOD:PUBLISH
X-WR-CALNAME:Cavac Services
X-ORIGINAL-URL:https://www.cavacservices.fr
X-WR-CALDESC:Évènements pour Cavac Services
REFRESH-INTERVAL;VALUE=DURATION:PT1H
X-Robots-Tag:noindex
X-PUBLISHED-TTL:PT1H
BEGIN:VTIMEZONE
TZID:Europe/Paris
BEGIN:DAYLIGHT
TZOFFSETFROM:+0100
TZOFFSETTO:+0200
TZNAME:CEST
DTSTART:20230326T010000
END:DAYLIGHT
BEGIN:STANDARD
TZOFFSETFROM:+0200
TZOFFSETTO:+0100
TZNAME:CET
DTSTART:20231029T010000
END:STANDARD
BEGIN:DAYLIGHT
TZOFFSETFROM:+0100
TZOFFSETTO:+0200
TZNAME:CEST
DTSTART:20240331T010000
END:DAYLIGHT
BEGIN:STANDARD
TZOFFSETFROM:+0200
TZOFFSETTO:+0100
TZNAME:CET
DTSTART:20241027T010000
END:STANDARD
BEGIN:DAYLIGHT
TZOFFSETFROM:+0100
TZOFFSETTO:+0200
TZNAME:CEST
DTSTART:20250330T010000
END:DAYLIGHT
BEGIN:STANDARD
TZOFFSETFROM:+0200
TZOFFSETTO:+0100
TZNAME:CET
DTSTART:20251026T010000
END:STANDARD
END:VTIMEZONE
BEGIN:VEVENT
DTSTART;TZID=Europe/Paris:20241003T090000
DTEND;TZID=Europe/Paris:20241004T173000
DTSTAMP:20260422T065817
CREATED:20240828T081246Z
LAST-MODIFIED:20240828T082806Z
UID:4801-1727946000-1728063000@www.cavacservices.fr
SUMMARY:Formation Agriculture Biologique de Conservation N2 "Lien entre santé du sol et des plantes"
DESCRIPTION:Cliquez ici pour les détails de la formation. \nPour tout renseignement\, n’hésitez pas à nous contacter !
URL:https://www.cavacservices.fr/evenement/formation-agriculture-biologique-de-conservation-n2-lien-entre-sante-du-sol-et-des-plantes/
LOCATION:Vertys\, Rue du Maréchal Leclerc\, Fontenay le Comte\, 85200\, France
CATEGORIES:Formation Agriculture Biologique de Conservation
ORGANIZER;CN="Service Formations CAVAC":MAILTO:cavacformations@cavac.fr
END:VEVENT
BEGIN:VEVENT
DTSTART;TZID=Europe/Paris:20241022T090000
DTEND;TZID=Europe/Paris:20241023T173000
DTSTAMP:20260422T065817
CREATED:20240828T081349Z
LAST-MODIFIED:20240828T082854Z
UID:4803-1729587600-1729704600@www.cavacservices.fr
SUMMARY:Formation Agriculture Biologique de Conservation N3 "Le désherbage Bio-Logique"
DESCRIPTION:Cliquez ici pour les détails de la formation. \nPour tout renseignement\, n’hésitez pas à nous contacter !
URL:https://www.cavacservices.fr/evenement/formation-agriculture-biologique-de-conservation-n3-le-desherbage-bio-logique/
LOCATION:Vertys\, Rue du Maréchal Leclerc\, Fontenay le Comte\, 85200\, France
CATEGORIES:Formation Agriculture Biologique de Conservation
ORGANIZER;CN="Service Formations CAVAC":MAILTO:cavacformations@cavac.fr
END:VEVENT
END:VCALENDAR