BEGIN:VCALENDAR
VERSION:2.0
PRODID:-//Cavac Services - ECPv6.15.20//NONSGML v1.0//EN
CALSCALE:GREGORIAN
METHOD:PUBLISH
X-ORIGINAL-URL:https://www.cavacservices.fr
X-WR-CALDESC:Évènements pour Cavac Services
REFRESH-INTERVAL;VALUE=DURATION:PT1H
X-Robots-Tag:noindex
X-PUBLISHED-TTL:PT1H
BEGIN:VTIMEZONE
TZID:Europe/Paris
BEGIN:DAYLIGHT
TZOFFSETFROM:+0100
TZOFFSETTO:+0200
TZNAME:CEST
DTSTART:20230326T010000
END:DAYLIGHT
BEGIN:STANDARD
TZOFFSETFROM:+0200
TZOFFSETTO:+0100
TZNAME:CET
DTSTART:20231029T010000
END:STANDARD
BEGIN:DAYLIGHT
TZOFFSETFROM:+0100
TZOFFSETTO:+0200
TZNAME:CEST
DTSTART:20240331T010000
END:DAYLIGHT
BEGIN:STANDARD
TZOFFSETFROM:+0200
TZOFFSETTO:+0100
TZNAME:CET
DTSTART:20241027T010000
END:STANDARD
BEGIN:DAYLIGHT
TZOFFSETFROM:+0100
TZOFFSETTO:+0200
TZNAME:CEST
DTSTART:20250330T010000
END:DAYLIGHT
BEGIN:STANDARD
TZOFFSETFROM:+0200
TZOFFSETTO:+0100
TZNAME:CET
DTSTART:20251026T010000
END:STANDARD
END:VTIMEZONE
BEGIN:VEVENT
DTSTART;TZID=Europe/Paris:20241129T090000
DTEND;TZID=Europe/Paris:20241129T173000
DTSTAMP:20260422T055047
CREATED:20240828T081606Z
LAST-MODIFIED:20240828T083009Z
UID:4805-1732870800-1732901400@www.cavacservices.fr
SUMMARY:Formation Agriculture Biologique de Conservation N4 "Améliorer le sol par la plante"
DESCRIPTION:Cliquez ici pour les détails de la formation. \nPour tout renseignement\, n’hésitez pas à nous contacter ! \n 
URL:https://www.cavacservices.fr/evenement/formation-agriculture-biologique-de-conservation-n4-ameliorer-le-sol-par-la-plante/
LOCATION:Vertys\, Rue du Maréchal Leclerc\, Fontenay le Comte\, 85200\, France
CATEGORIES:Formation Agriculture Biologique de Conservation
ORGANIZER;CN="Service Formations CAVAC":MAILTO:cavacformations@cavac.fr
END:VEVENT
END:VCALENDAR