BEGIN:VCALENDAR
VERSION:2.0
PRODID:-//Cavac Services - ECPv6.15.20//NONSGML v1.0//EN
CALSCALE:GREGORIAN
METHOD:PUBLISH
X-ORIGINAL-URL:https://www.cavacservices.fr
X-WR-CALDESC:Évènements pour Cavac Services
REFRESH-INTERVAL;VALUE=DURATION:PT1H
X-Robots-Tag:noindex
X-PUBLISHED-TTL:PT1H
BEGIN:VTIMEZONE
TZID:Europe/Paris
BEGIN:DAYLIGHT
TZOFFSETFROM:+0100
TZOFFSETTO:+0200
TZNAME:CEST
DTSTART:20240331T010000
END:DAYLIGHT
BEGIN:STANDARD
TZOFFSETFROM:+0200
TZOFFSETTO:+0100
TZNAME:CET
DTSTART:20241027T010000
END:STANDARD
BEGIN:DAYLIGHT
TZOFFSETFROM:+0100
TZOFFSETTO:+0200
TZNAME:CEST
DTSTART:20250330T010000
END:DAYLIGHT
BEGIN:STANDARD
TZOFFSETFROM:+0200
TZOFFSETTO:+0100
TZNAME:CET
DTSTART:20251026T010000
END:STANDARD
BEGIN:DAYLIGHT
TZOFFSETFROM:+0100
TZOFFSETTO:+0200
TZNAME:CEST
DTSTART:20260329T010000
END:DAYLIGHT
BEGIN:STANDARD
TZOFFSETFROM:+0200
TZOFFSETTO:+0100
TZNAME:CET
DTSTART:20261025T010000
END:STANDARD
END:VTIMEZONE
BEGIN:VEVENT
DTSTART;TZID=Europe/Paris:20250205T090000
DTEND;TZID=Europe/Paris:20250205T173000
DTSTAMP:20260422T020337
CREATED:20240828T081803Z
LAST-MODIFIED:20240828T083137Z
UID:4809-1738746000-1738776600@www.cavacservices.fr
SUMMARY:Formation Agriculture Biologique de Conservation N6 " Alternatives au désherbage mécanique en bio"
DESCRIPTION:Cliquez ici pour les détails de la formation. \nPour tout renseignement\, n’hésitez pas à nous contacter !
URL:https://www.cavacservices.fr/evenement/formation-agriculture-biologique-de-conservation-n6-alternatives-au-desherbage-mecanique-en-bio/
LOCATION:Vertys\, Rue du Maréchal Leclerc\, Fontenay le Comte\, 85200\, France
CATEGORIES:Formation Agriculture Biologique de Conservation
ORGANIZER;CN="Service Formations CAVAC":MAILTO:cavacformations@cavac.fr
END:VEVENT
END:VCALENDAR