BEGIN:VCALENDAR
VERSION:2.0
PRODID:-//Cavac Services - ECPv6.15.20//NONSGML v1.0//EN
CALSCALE:GREGORIAN
METHOD:PUBLISH
X-WR-CALNAME:Cavac Services
X-ORIGINAL-URL:https://www.cavacservices.fr
X-WR-CALDESC:Évènements pour Cavac Services
REFRESH-INTERVAL;VALUE=DURATION:PT1H
X-Robots-Tag:noindex
X-PUBLISHED-TTL:PT1H
BEGIN:VTIMEZONE
TZID:Europe/Paris
BEGIN:DAYLIGHT
TZOFFSETFROM:+0100
TZOFFSETTO:+0200
TZNAME:CEST
DTSTART:20250330T010000
END:DAYLIGHT
BEGIN:STANDARD
TZOFFSETFROM:+0200
TZOFFSETTO:+0100
TZNAME:CET
DTSTART:20251026T010000
END:STANDARD
BEGIN:DAYLIGHT
TZOFFSETFROM:+0100
TZOFFSETTO:+0200
TZNAME:CEST
DTSTART:20260329T010000
END:DAYLIGHT
BEGIN:STANDARD
TZOFFSETFROM:+0200
TZOFFSETTO:+0100
TZNAME:CET
DTSTART:20261025T010000
END:STANDARD
BEGIN:DAYLIGHT
TZOFFSETFROM:+0100
TZOFFSETTO:+0200
TZNAME:CEST
DTSTART:20270328T010000
END:DAYLIGHT
BEGIN:STANDARD
TZOFFSETFROM:+0200
TZOFFSETTO:+0100
TZNAME:CET
DTSTART:20271031T010000
END:STANDARD
END:VTIMEZONE
BEGIN:VEVENT
DTSTART;TZID=Europe/Paris:20260618T090000
DTEND;TZID=Europe/Paris:20260618T170000
DTSTAMP:20260424T071851
CREATED:20260130T103435Z
LAST-MODIFIED:20260413T083806Z
UID:5980-1781773200-1781802000@www.cavacservices.fr
SUMMARY:Premiers secours Citoyen (PSC)
DESCRIPTION:Cliquez ici pour les détails de la formation. \nPour tout renseignement\, n’hésitez pas à nous contacter !
URL:https://www.cavacservices.fr/evenement/premiers-secours-citoyen-psc-3/
LOCATION:Centre d’incendie et de secours AIZENAY\, 12 Rue Sainte-Barbe\, AIZENAY
ORGANIZER;CN="Service Formations CAVAC":MAILTO:cavacformations@cavac.fr
END:VEVENT
END:VCALENDAR